BEGIN:VCALENDAR
VERSION:2.0
PRODID:-//hacksw/handcal//NONSGML v1.0//EN
CALSCALE:GREGORIAN
BEGIN:VEVENT
LOCATION:
DESCRIPTION:
DTSTART:20260420
DTEND:20260422
SUMMARY:Restmüll - Gemeinde Faßberg
URL:
DTSTAMP:20260423T104336
UID:69e9f7d8130e5
END:VEVENT
END:VCALENDAR