BEGIN:VCALENDAR
VERSION:2.0
PRODID:-//hacksw/handcal//NONSGML v1.0//EN
CALSCALE:GREGORIAN
BEGIN:VEVENT
LOCATION:Gemeindehaus Müden/Ö\, 29328
DESCRIPTION:Die Elterngruppe Kinnerhus lädt auch in diesem Jahr wieder zu einer Kleiderbörse mit Schwerpunkt Frühling/Sommer ein. Sie findet am 25.04.2026 in den bewährten Räumen des Gemeindehauses in der Alten Dorfstraße statt. Die Börse findet in der Zeit von 09:00 - 13:00 Uhr statt. Anmeldungen bitte bis zum 19.04.2026 an kinnerhus-boerse@gmx.de. Die Elterngruppe Kinnerhus freut sich auf viele Teilnehmer und Besucher.
DTSTART:20260425T070000
DTEND:20260425T110000
SUMMARY:Kleiderbörse Frühling/Sommer - Elterngruppe Kinnerhus
URL:
DTSTAMP:20260423T104513
UID:69e9f839647f9
END:VEVENT
END:VCALENDAR